Workbook

Sheet (참고)기초자료
B3: 충남도립대학교 2026학년도 2학기 전임교원 채용 기초전공심사 기초자료
B5: [후보자 기본정보] | C5: (작성예시)
B6: (1) 지원분야: | C6: 전기공학 관련 학과
B7: (2) 지원학과: | C7: 전기전자공학과
B8: (3) 성명: | C8: 홍길동
B9: (4) 現소속기관: | C9: 00대학교
B10: (5) 박사학위교/전공: | C10: 00대학교(석·박 통합) | D10: / | E10: 00공학(00학과) | G10: 성적: 4.12/4.3
B11: (6) 석사학위교/전공: | C11: 00대학교(석·박 통합) | D11: / | E11: 00공학(00학과)
B12: (7) 학사학위교/전공: | C12: 00대학교 | D12: / | E12: 00공학, 00공학 | G12: 성적: 3.89/4.5
B13: (8) 과거 근무기관: | C13: 00대학교 | E13: 00연구원 | G13: 00재단

Sheet (1) 기초심사
B1: 구분 | E1: 지원자: | F1: ='(참고)기초자료'!C8 -> 홍길동
B3: 학력(10점) | L3: 배점
B5: 1. 학위취득구분
B6: 박사 2점 / 박사수료 1.5점 / 석사 1점 | L6: 2
B8: 2. 전공일치도 | F8: (학과/전공)
B9: [학사] 매우적합 2점 / 적합 1.5점 / 보통 1점 / 미흡 0.5점 | F9: ='(참고)기초자료'!E12 -> 00공학, 00공학 | L9: 1
B10: [석사] 매우적합 2점 / 적합 1.5점 / 보통 1점 / 미흡 0.5점 | F10: ='(참고)기초자료'!E11 -> 00공학(00학과) | L10: 1
B11: [박사] 매우적합 2점 / 적합 1.5점 / 보통 1점 / 미흡 0.5점 | F11: ='(참고)기초자료'!E10 -> 00공학(00학과) | L11: 1
B13: 교육산업체 경력(10점)
B15: 3. 교육경력(3년이상 5점 / 2년이상 4점 / 1년이상 3점 / 1년미만 2점 / 없음 0점)
B16: (연번) | C16: (근무시작일자) | D16: (근무종료일자) | E16: (근무지명) | F16: (직위) | G16: (근무개월수) | H16: (주당수업시수) | I16: (환산) | J16: (환산개월수) | K16: 비고
B17: 1) | C17: 44986 | D17: 45169 | E17: ○○대학교 (00학과), △△대학교 (00학과), □□대학교 (00학과) | F17: 강사 | G17: =IF(C17<>"",DATEDIF(C17,D17+1,"M")+IF(QUOTIENT(DATEDIF(C17,D17+1,"Md"),15)>=1,1,0),"0") -> 6 | H17: 6시간이상 | I17: =IF(H17="6시간이상",1,IF(H17="6시간미만",0.7,0)) -> 1 | J17: =ROUNDDOWN(G17*I17,0) -> 6 | K17: 3시수, 1시수, 2시수 | L17: (예시)
B18: 2) | C18: 45717 | D18: 46150 | E18: oo대학교 | F18: 초빙교수 | G18: =IF(C18<>"",DATEDIF(C18,D18+1,"M")+IF(QUOTIENT(DATEDIF(C18,D18+1,"Md"),15)>=1,1,0),"0") -> 14 | H18: 6시간미만 | I18: =IF(H18="6시간이상",1,IF(H18="6시간미만",0.7,0)) -> 0.7 | J18: =ROUNDDOWN(G18*I18,0) -> 9 | K18: 5시수 | L18: (예시)
B19: 3) | G19: =IF(C19<>"",DATEDIF(C19,D19+1,"M")+IF(QUOTIENT(DATEDIF(C19,D19+1,"Md"),15)>=1,1,0),"0") -> 0 | I19: =IF(H19="6시간이상",1,IF(H19="6시간미만",0.7,0)) -> 0 | J19: =ROUNDDOWN(G19*I19,0) -> 0
B20: 4) | G20: =IF(C20<>"",DATEDIF(C20,D20+1,"M")+IF(QUOTIENT(DATEDIF(C20,D20+1,"Md"),15)>=1,1,0),"0") -> 0 | I20: =IF(H20="6시간이상",1,IF(H20="6시간미만",0.7,0)) -> 0 | J20: =ROUNDDOWN(G20*I20,0) -> 0
B21: 5) | G21: =IF(C21<>"",DATEDIF(C21,D21+1,"M")+IF(QUOTIENT(DATEDIF(C21,D21+1,"Md"),15)>=1,1,0),"0") -> 0 | I21: =IF(H21="6시간이상",1,IF(H21="6시간미만",0.7,0)) -> 0 | J21: =ROUNDDOWN(G21*I21,0) -> 0
B22: 6) | G22: =IF(C22<>"",DATEDIF(C22,D22+1,"M")+IF(QUOTIENT(DATEDIF(C22,D22+1,"Md"),15)>=1,1,0),"0") -> 0 | I22: =IF(H22="6시간이상",1,IF(H22="6시간미만",0.7,0)) -> 0 | J22: =ROUNDDOWN(G22*I22,0) -> 0
B23: 7) | G23: =IF(C23<>"",DATEDIF(C23,D23+1,"M")+IF(QUOTIENT(DATEDIF(C23,D23+1,"Md"),15)>=1,1,0),"0") -> 0 | I23: =IF(H23="6시간이상",1,IF(H23="6시간미만",0.7,0)) -> 0 | J23: =ROUNDDOWN(G23*I23,0) -> 0
B24: 8) | G24: =IF(C24<>"",DATEDIF(C24,D24+1,"M")+IF(QUOTIENT(DATEDIF(C24,D24+1,"Md"),15)>=1,1,0),"0") -> 0 | I24: =IF(H24="6시간이상",1,IF(H24="6시간미만",0.7,0)) -> 0 | J24: =ROUNDDOWN(G24*I24,0) -> 0
B25: 9) | G25: =IF(C25<>"",DATEDIF(C25,D25+1,"M")+IF(QUOTIENT(DATEDIF(C25,D25+1,"Md"),15)>=1,1,0),"0") -> 0 | I25: =IF(H25="6시간이상",1,IF(H25="6시간미만",0.7,0)) -> 0 | J25: =ROUNDDOWN(G25*I25,0) -> 0
B26: 10) | G26: =IF(C26<>"",DATEDIF(C26,D26+1,"M")+IF(QUOTIENT(DATEDIF(C26,D26+1,"Md"),15)>=1,1,0),"0") -> 0 | I26: =IF(H26="6시간이상",1,IF(H26="6시간미만",0.7,0)) -> 0 | J26: =ROUNDDOWN(G26*I26,0) -> 0
G27: =IF(C27<>"",DATEDIF(C27,D27+1,"M")+IF(QUOTIENT(DATEDIF(C27,D27+1,"Md"),15)>=1,1,0),"0") -> 0 | I27: 소계 | J27: =SUM(J17:J25) -> 15 | K27: =TEXT(ROUNDDOWN(J27/12,0),0)&"년 "&TEXT(J27-ROUNDDOWN(J27/12,0)*12,0)&"월" -> 1년 3월 | L27: =IF(J27>=36,5,IF(J27>=24,4,IF(J27>=12,3,IF(J27=0,0,2)))) -> 3
B29: 4. 산업체 경력(5년이상 5점 / 3년이상 4점 / 1년이상 3점 / 1년미만 2점 / 없음 0점)
B30: (연번) | C30: (근무시작일자) | D30: (근무종료일자) | E30: (근무지명) | F30: (직위) | G30: (근무개월수) | H30: (담당직무) | J30: (환산개월수) | L30: 가중치
B31: 1) | C31: 44325 | D31: 44985 | E31: 00대학교 (00연구소) | F31: 박사후연구원 | G31: =IF(C31<>"",DATEDIF(C31,D31+1,"M")+IF(QUOTIENT(DATEDIF(C31,D31+1,"Md"),15)>=1,1,0),"0") -> 22 | H31: 연구 개발 | J31: =ROUNDDOWN(G31*L31,0) -> 22 | K31: (예시) | L31: 1
B32: 2) | C32: 45170 | D32: 45535 | E32: 00연구원 | F32: 선임연구원 | G32: =IF(C32<>"",DATEDIF(C32,D32+1,"M")+IF(QUOTIENT(DATEDIF(C32,D32+1,"Md"),15)>=1,1,0),"0") -> 12 | J32: =ROUNDDOWN(G32*L32,0) -> 12 | K32: (예시) | L32: 1
B33: 3) | G33: =IF(C33<>"",DATEDIF(C33,D33+1,"M")+IF(QUOTIENT(DATEDIF(C33,D33+1,"Md"),15)>=1,1,0),"0") -> 0 | J33: =ROUNDDOWN(G33*L33,0) -> 0 | L33: 1
B34: 4) | G34: =IF(C34<>"",DATEDIF(C34,D34+1,"M")+IF(QUOTIENT(DATEDIF(C34,D34+1,"Md"),15)>=1,1,0),"0") -> 0 | J34: =ROUNDDOWN(G34*L34,0) -> 0 | L34: 1
B35: 5) | G35: =IF(C35<>"",DATEDIF(C35,D35+1,"M")+IF(QUOTIENT(DATEDIF(C35,D35+1,"Md"),15)>=1,1,0),"0") -> 0 | J35: =ROUNDDOWN(G35*L35,0) -> 0 | L35: 1
B36: 6) | G36: =IF(C36<>"",DATEDIF(C36,D36+1,"M")+IF(QUOTIENT(DATEDIF(C36,D36+1,"Md"),15)>=1,1,0),"0") -> 0 | J36: =ROUNDDOWN(G36*L36,0) -> 0 | L36: 1
B37: 7) | G37: =IF(C37<>"",DATEDIF(C37,D37+1,"M")+IF(QUOTIENT(DATEDIF(C37,D37+1,"Md"),15)>=1,1,0),"0") -> 0 | J37: =ROUNDDOWN(G37*L37,0) -> 0 | L37: 1
B38: 8) | G38: =IF(C38<>"",DATEDIF(C38,D38+1,"M")+IF(QUOTIENT(DATEDIF(C38,D38+1,"Md"),15)>=1,1,0),"0") -> 0 | J38: =ROUNDDOWN(G38*L38,0) -> 0 | L38: 1
B39: 9) | G39: =IF(C39<>"",DATEDIF(C39,D39+1,"M")+IF(QUOTIENT(DATEDIF(C39,D39+1,"Md"),15)>=1,1,0),"0") -> 0 | J39: =ROUNDDOWN(G39*L39,0) -> 0 | L39: 1
B40: 10) | G40: =IF(C40<>"",DATEDIF(C40,D40+1,"M")+IF(QUOTIENT(DATEDIF(C40,D40+1,"Md"),15)>=1,1,0),"0") -> 0 | J40: =ROUNDDOWN(G40*L40,0) -> 0 | L40: 1
G41: =IF(C41<>"",DATEDIF(C41,D41+1,"M")+IF(QUOTIENT(DATEDIF(C41,D41+1,"Md"),15)>=1,1,0),"0") -> 0 | I41: 소계 | J41: =SUM(J31:J39) -> 34 | K41: =TEXT(ROUNDDOWN(J41/12,0),0)&"년 "&TEXT(J41-ROUNDDOWN(J41/12,0)*12,0)&"월" -> 2년 10월 | L41: =IF(J41>=60,5,IF(J41>=36,4,IF(J41>=12,3,IF(J41=0,0,2)))) -> 3
J43: 종합점수 | L43: =L6+SUM(L9:L11)+L27+L41 -> 11

Sheet (2) 전공심사
B2: 구분 | D2: 지원자: | E2: ='(참고)기초자료'!C8 -> 홍길동
B4: 최종학위논문의 전공일치도 (5점)
B6: 가. 전공일치도
B7: (구분) | C7: (논문제목) | D7: (저자수) | E7: (역할) | F7: (게재지) | G7: (학술지구분) | J7: (배점) | K7: 가중치
B8: [박사논문] | D8: 1인 | E8: 제1저자 | J8: 2 | K8: 1 | L8: =J8*K8 -> 2
J10: 소계 | K10: =IF(L10>=5,5,L10) -> 2 | L10: =ROUND(SUM(L8:L8),1) -> 2
B12: 연구실적물의 질적 평가 (9점)
B14: 가. 채용분야와의 관련성
B15: (구분) | C15: (논문제목) | D15: (저자수) | E15: (역할) | F15: (게재지) | G15: (학술지구분) | H15: (IF) | I15: (역할환산) | J15: (저널점수) | K15: 가중치
B16: 대표실적1 | D16: 선택 | E16: 선택 | G16: 선택 | H16: (미입력) | I16: =IF(D16="1인",1,IF(AND(D16="2인",E16="제1저자"),0.8,IF(AND(D16="2인",E16="교신저자"),0.8,IF(AND(D16="2인",E16="공동저자"),0.7,IF(AND(D16="3인",E16="제1저자"),0.7,IF(AND(D16="3인",E16="교신저자"),0.7,IF(AND(D16="3인",E16="공동저자"),0.5,IF(AND(D16="4인이상",E16="제1저자"),0.6,IF(AND(D16="4인이상",E16="교신저자"),0.6,IF(AND(D16="4인이상",E16="공동저자"),0.3,0)))))))))) -> 0 | J16: =IF(G16="SCIE급(SCI, SCIE, SSCI)",3,IF(G16="SCOPUS급",2,IF(G16="한국연구재단 등재지",2,IF(G16="한국연구재단 등재후보지",1,0)))) -> 0 | K16: 1 | L16: =I16*J16*K16 -> 0
B17: 대표실적2 | D17: 선택 | E17: 선택 | G17: 선택 | I17: =IF(D17="1인",1,IF(AND(D17="2인",E17="제1저자"),0.8,IF(AND(D17="2인",E17="교신저자"),0.8,IF(AND(D17="2인",E17="공동저자"),0.7,IF(AND(D17="3인",E17="제1저자"),0.7,IF(AND(D17="3인",E17="교신저자"),0.7,IF(AND(D17="3인",E17="공동저자"),0.5,IF(AND(D17="4인이상",E17="제1저자"),0.6,IF(AND(D17="4인이상",E17="교신저자"),0.6,IF(AND(D17="4인이상",E17="공동저자"),0.3,0)))))))))) -> 0 | J17: =IF(G17="SCIE급(SCI, SCIE, SSCI)",3,IF(G17="SCOPUS급",2,IF(G17="한국연구재단 등재지",2,IF(G17="한국연구재단 등재후보지",1,0)))) -> 0 | K17: 1 | L17: =I17*J17*K17 -> 0
J19: 소계 | K19: =L19 -> 0 | L19: =ROUND(SUM(L16:L17),1) -> 0
B21: 연구실적물의 양적 평가 (6점)
B23: 가. 채용분야와의 관련성
B24: (연번) | C24: (논문제목) | D24: (저자수) | E24: (역할) | F24: (게재지) | G24: (학술지구분) | H24: (IF) | I24: (역할환산) | J24: (저널점수) | K24: 가중치
B25: 계 | C25: =COUNTA(C26:C48)&"건" -> 0건 | I25: =SUM(I26:I48) -> 0
B26: 1 | D26: 선택 | E26: 선택 | G26: 선택 | H26: (미입력) | I26: =IF(D26="1인",1,IF(AND(D26="2인",E26="제1저자"),0.8,IF(AND(D26="2인",E26="교신저자"),0.8,IF(AND(D26="2인",E26="공동저자"),0.7,IF(AND(D26="3인",E26="제1저자"),0.7,IF(AND(D26="3인",E26="교신저자"),0.7,IF(AND(D26="3인",E26="공동저자"),0.5,IF(AND(D26="4인이상",E26="제1저자"),0.6,IF(AND(D26="4인이상",E26="교신저자"),0.6,IF(AND(D26="4인이상",E26="공동저자"),0.3,0)))))))))) -> 0 | J26: (미평가) | K26: 1 | L26: =I26*K26 -> 0
B27: 2 | I27: =IF(D27="1인",1,IF(AND(D27="2인",E27="제1저자"),0.8,IF(AND(D27="2인",E27="교신저자"),0.8,IF(AND(D27="2인",E27="공동저자"),0.7,IF(AND(D27="3인",E27="제1저자"),0.7,IF(AND(D27="3인",E27="교신저자"),0.7,IF(AND(D27="3인",E27="공동저자"),0.5,IF(AND(D27="4인이상",E27="제1저자"),0.6,IF(AND(D27="4인이상",E27="교신저자"),0.6,IF(AND(D27="4인이상",E27="공동저자"),0.3,0)))))))))) -> 0 | J27: (미평가) | K27: 1 | L27: =I27*K27 -> 0
B28: 3 | I28: =IF(D28="1인",1,IF(AND(D28="2인",E28="제1저자"),0.8,IF(AND(D28="2인",E28="교신저자"),0.8,IF(AND(D28="2인",E28="공동저자"),0.7,IF(AND(D28="3인",E28="제1저자"),0.7,IF(AND(D28="3인",E28="교신저자"),0.7,IF(AND(D28="3인",E28="공동저자"),0.5,IF(AND(D28="4인이상",E28="제1저자"),0.6,IF(AND(D28="4인이상",E28="교신저자"),0.6,IF(AND(D28="4인이상",E28="공동저자"),0.3,0)))))))))) -> 0 | J28: (미평가) | K28: 1 | L28: =I28*K28 -> 0
B29: 4 | I29: =IF(D29="1인",1,IF(AND(D29="2인",E29="제1저자"),0.8,IF(AND(D29="2인",E29="교신저자"),0.8,IF(AND(D29="2인",E29="공동저자"),0.7,IF(AND(D29="3인",E29="제1저자"),0.7,IF(AND(D29="3인",E29="교신저자"),0.7,IF(AND(D29="3인",E29="공동저자"),0.5,IF(AND(D29="4인이상",E29="제1저자"),0.6,IF(AND(D29="4인이상",E29="교신저자"),0.6,IF(AND(D29="4인이상",E29="공동저자"),0.3,0)))))))))) -> 0 | J29: (미평가) | K29: 1 | L29: =I29*K29 -> 0
B30: 5 | I30: =IF(D30="1인",1,IF(AND(D30="2인",E30="제1저자"),0.8,IF(AND(D30="2인",E30="교신저자"),0.8,IF(AND(D30="2인",E30="공동저자"),0.7,IF(AND(D30="3인",E30="제1저자"),0.7,IF(AND(D30="3인",E30="교신저자"),0.7,IF(AND(D30="3인",E30="공동저자"),0.5,IF(AND(D30="4인이상",E30="제1저자"),0.6,IF(AND(D30="4인이상",E30="교신저자"),0.6,IF(AND(D30="4인이상",E30="공동저자"),0.3,0)))))))))) -> 0 | J30: (미평가) | K30: 1 | L30: =I30*K30 -> 0
B31: 6 | I31: =IF(D31="1인",1,IF(AND(D31="2인",E31="제1저자"),0.8,IF(AND(D31="2인",E31="교신저자"),0.8,IF(AND(D31="2인",E31="공동저자"),0.7,IF(AND(D31="3인",E31="제1저자"),0.7,IF(AND(D31="3인",E31="교신저자"),0.7,IF(AND(D31="3인",E31="공동저자"),0.5,IF(AND(D31="4인이상",E31="제1저자"),0.6,IF(AND(D31="4인이상",E31="교신저자"),0.6,IF(AND(D31="4인이상",E31="공동저자"),0.3,0)))))))))) -> 0 | J31: (미평가) | K31: 1 | L31: =I31*K31 -> 0
B32: 7 | I32: =IF(D32="1인",1,IF(AND(D32="2인",E32="제1저자"),0.8,IF(AND(D32="2인",E32="교신저자"),0.8,IF(AND(D32="2인",E32="공동저자"),0.7,IF(AND(D32="3인",E32="제1저자"),0.7,IF(AND(D32="3인",E32="교신저자"),0.7,IF(AND(D32="3인",E32="공동저자"),0.5,IF(AND(D32="4인이상",E32="제1저자"),0.6,IF(AND(D32="4인이상",E32="교신저자"),0.6,IF(AND(D32="4인이상",E32="공동저자"),0.3,0)))))))))) -> 0 | J32: (미평가) | K32: 1 | L32: =I32*K32 -> 0
B33: 8 | I33: =IF(D33="1인",1,IF(AND(D33="2인",E33="제1저자"),0.8,IF(AND(D33="2인",E33="교신저자"),0.8,IF(AND(D33="2인",E33="공동저자"),0.7,IF(AND(D33="3인",E33="제1저자"),0.7,IF(AND(D33="3인",E33="교신저자"),0.7,IF(AND(D33="3인",E33="공동저자"),0.5,IF(AND(D33="4인이상",E33="제1저자"),0.6,IF(AND(D33="4인이상",E33="교신저자"),0.6,IF(AND(D33="4인이상",E33="공동저자"),0.3,0)))))))))) -> 0 | J33: (미평가) | K33: 1 | L33: =I33*K33 -> 0
B34: 9 | I34: =IF(D34="1인",1,IF(AND(D34="2인",E34="제1저자"),0.8,IF(AND(D34="2인",E34="교신저자"),0.8,IF(AND(D34="2인",E34="공동저자"),0.7,IF(AND(D34="3인",E34="제1저자"),0.7,IF(AND(D34="3인",E34="교신저자"),0.7,IF(AND(D34="3인",E34="공동저자"),0.5,IF(AND(D34="4인이상",E34="제1저자"),0.6,IF(AND(D34="4인이상",E34="교신저자"),0.6,IF(AND(D34="4인이상",E34="공동저자"),0.3,0)))))))))) -> 0 | J34: (미평가) | K34: 1 | L34: =I34*K34 -> 0
B35: 10 | I35: =IF(D35="1인",1,IF(AND(D35="2인",E35="제1저자"),0.8,IF(AND(D35="2인",E35="교신저자"),0.8,IF(AND(D35="2인",E35="공동저자"),0.7,IF(AND(D35="3인",E35="제1저자"),0.7,IF(AND(D35="3인",E35="교신저자"),0.7,IF(AND(D35="3인",E35="공동저자"),0.5,IF(AND(D35="4인이상",E35="제1저자"),0.6,IF(AND(D35="4인이상",E35="교신저자"),0.6,IF(AND(D35="4인이상",E35="공동저자"),0.3,0)))))))))) -> 0 | J35: (미평가) | K35: 1 | L35: =I35*K35 -> 0
B36: 11 | I36: =IF(D36="1인",1,IF(AND(D36="2인",E36="제1저자"),0.8,IF(AND(D36="2인",E36="교신저자"),0.8,IF(AND(D36="2인",E36="공동저자"),0.7,IF(AND(D36="3인",E36="제1저자"),0.7,IF(AND(D36="3인",E36="교신저자"),0.7,IF(AND(D36="3인",E36="공동저자"),0.5,IF(AND(D36="4인이상",E36="제1저자"),0.6,IF(AND(D36="4인이상",E36="교신저자"),0.6,IF(AND(D36="4인이상",E36="공동저자"),0.3,0)))))))))) -> 0 | J36: (미평가) | K36: 1 | L36: =I36*K36 -> 0
B37: 12 | I37: =IF(D37="1인",1,IF(AND(D37="2인",E37="제1저자"),0.8,IF(AND(D37="2인",E37="교신저자"),0.8,IF(AND(D37="2인",E37="공동저자"),0.7,IF(AND(D37="3인",E37="제1저자"),0.7,IF(AND(D37="3인",E37="교신저자"),0.7,IF(AND(D37="3인",E37="공동저자"),0.5,IF(AND(D37="4인이상",E37="제1저자"),0.6,IF(AND(D37="4인이상",E37="교신저자"),0.6,IF(AND(D37="4인이상",E37="공동저자"),0.3,0)))))))))) -> 0 | J37: (미평가) | K37: 1 | L37: =I37*K37 -> 0
B38: 13 | I38: =IF(D38="1인",1,IF(AND(D38="2인",E38="제1저자"),0.8,IF(AND(D38="2인",E38="교신저자"),0.8,IF(AND(D38="2인",E38="공동저자"),0.7,IF(AND(D38="3인",E38="제1저자"),0.7,IF(AND(D38="3인",E38="교신저자"),0.7,IF(AND(D38="3인",E38="공동저자"),0.5,IF(AND(D38="4인이상",E38="제1저자"),0.6,IF(AND(D38="4인이상",E38="교신저자"),0.6,IF(AND(D38="4인이상",E38="공동저자"),0.3,0)))))))))) -> 0 | J38: (미평가) | K38: 1 | L38: =I38*K38 -> 0
... B48: 23 | I48: =IF(D48="1인",1,IF(AND(D48="2인",E48="제1저자"),0.8,IF(AND(D48="2인",E48="교신저자"),0.8,IF(AND(D48="2인",E48="공동저자"),0.7,IF(AND(D48="3인",E48="제1저자"),0.7,IF(AND(D48="3인",E48="교신저자"),0.7,IF(AND(D48="3인",E48="공동저자"),0.5,IF(AND(D48="4인이상",E48="제1저자"),0.6,IF(AND(D48="4인이상",E48="교신저자"),0.6,IF(AND(D48="4인이상",E48="공동저자"),0.3,0)))))))))) -> 0 | J48: (미평가) | K48: 1 | L48: =I48*K48 -> 0
J50: 소계 | K50: =IF(L50>=6,6,L50) -> 0 | L50: =ROUND(SUM(L26:L48),1) -> 0
J52: 종합점수 | K52: =K10+K19+K50 -> 2

Sheet (목록)
B2: 학위 | D2: 전공일치 | E2: 전공일치 | F2: 교육 | H2: 가중치 | J2: 석박사 가중치 | L2: 연구실적물 가중치 | N2: 논문 종류 | O2: 역할 | P2: 저자수 | Q2: 선택
B3: 선택 | D3: 선택 | E3: 선택 | F3: 0 | H3: 선택 | J3: 선택 | L3: 선택 | N3: 선택 | O3: 선택 | P3: 선택 | Q3: 0
B4: 1 | D4: 0.5 | E4: 1 | F4: 2 | H4: 0 | J4: 0 | L4: 0 | N4: SCIE급(SCI, SCIE, SSCI) | O4: 제1저자 | P4: 1인 | Q4: 6시간이상
B5: 1.5 | D5: 1 | E5: 2 | F5: 3 | H5: 0.3 | J5: 1 | L5: 0.5 | N5: SCOPUS급 | O5: 교신저자 | P5: 2인 | Q5: 6시간미만
B6: 2 | D6: 1.5 | E6: 3 | F6: 4 | H6: 0.5 | J6: 1.5 | L6: 1 | N6: 한국연구재단 등재지 | O6: 공동저자 | P6: 3인
D7: 2 | E7: 4 | F7: 5 | H7: 0.7 | J7: 2.5 | L7: 1.5 | N7: 한국연구재단 등재후보지 | P7: 4인이상
H8: 1 | N8: 기타
